BEGIN:VCALENDAR
VERSION:2.0
CALSCALE:GREGORIAN
PRODID:-//Diputació de Barcelona//DibaCMS//EN
BEGIN:VEVENT
UID:DI_1685@www.marganell.cat
DTSTAMP:20260424T163051
DTSTART:20260509T103000
DTEND:20260509T120000
SUMMARY:Xerrada sobre els boscos de Catalunya al Segle XXI. Manifestacions del Canvi Climàtic
LOCATION:
METHOD:PUBLISH
X-WR-CALNAME:mrgn.ajuntament@marganell.cat
X-WR-TIMEZONE:Europe/Madrid
DESCRIPTION:
URI:https://www.marganell.cat/actualitat/agenda/xerrada-sobre-els-boscos-de-catalunya-al-segle-xxi-manifestacions-del-canvi-climatic.html
CLASS:PUBLIC
END:VEVENT
BEGIN:VEVENT
UID:DI_1686@www.marganell.cat
DTSTAMP:20260424T163051
DTSTART:20260509T120000
DTEND:20260509T133000
SUMMARY:Xerrada sobre l’experiència Hypatia MARS: Ciència i lideratge en femení treballant pel camí cap a Mart
LOCATION:
METHOD:PUBLISH
X-WR-CALNAME:mrgn.ajuntament@marganell.cat
X-WR-TIMEZONE:Europe/Madrid
DESCRIPTION:
URI:https://www.marganell.cat/actualitat/agenda/xerrada-sobre-lexperiencia-hypatia-mars-ciencia-i-lideratge-en-femeni-treballant-pel-cami-cap-a-mart.html
CLASS:PUBLIC
END:VEVENT
BEGIN:VEVENT
UID:DI_1687@www.marganell.cat
DTSTAMP:20260424T163051
DTSTART:20260509T140000
DTEND:20260509T160000
SUMMARY:Arrossada Popular
LOCATION:
METHOD:PUBLISH
X-WR-CALNAME:mrgn.ajuntament@marganell.cat
X-WR-TIMEZONE:Europe/Madrid
DESCRIPTION:
URI:https://www.marganell.cat/actualitat/agenda/1687-arrossada-popular.html
CLASS:PUBLIC
END:VEVENT
BEGIN:VEVENT
UID:DI_1688@www.marganell.cat
DTSTAMP:20260424T163051
DTSTART:20260510T090000
DTEND:20260510T140000
SUMMARY:Paradetes, ball de la coca i repartiment del pa
LOCATION:
METHOD:PUBLISH
X-WR-CALNAME:mrgn.ajuntament@marganell.cat
X-WR-TIMEZONE:Europe/Madrid
DESCRIPTION:
URI:https://www.marganell.cat/actualitat/agenda/paradetes-ball-de-la-coca-i-repartiment-del-pa.html
CLASS:PUBLIC
END:VEVENT
END:VCALENDAR
