BEGIN:VCALENDAR
VERSION:2.0
CALSCALE:GREGORIAN
PRODID:-//Diputació de Barcelona//DibaCMS//EN
BEGIN:VEVENT
UID:1534
DTSTAMP:20260425T001510
DTSTART:20240223T183000
DTEND:20240223T193000
SUMMARY:Ple Extraordinàri
LOCATION:
METHOD:PUBLISH
X-WR-CALNAME:mrgn.ajuntament@marganell.cat
X-WR-TIMEZONE:Europe/Madrid
DESCRIPTION:
URI:https://www.marganell.cat/actualitat/agenda/1534-ple-extraordinari.html
CLASS:PUBLIC
END:VEVENT
END:VCALENDAR
