BEGIN:VCALENDAR
VERSION:2.0
CALSCALE:GREGORIAN
PRODID:-//Diputació de Barcelona//DibaCMS//EN
BEGIN:VEVENT
UID:1538
DTSTAMP:20260425T002330
DTSTART:20240415T193000
DTEND:20240415T200000
SUMMARY:Presentació de "La Marató del sucre" - Andreu Simon
LOCATION:
METHOD:PUBLISH
X-WR-CALNAME:mrgn.ajuntament@marganell.cat
X-WR-TIMEZONE:Europe/Madrid
DESCRIPTION:
URI:https://www.marganell.cat/actualitat/agenda/presentacio-de-la-marato-del-sucre-andreu-simon.html
CLASS:PUBLIC
END:VEVENT
END:VCALENDAR
