BEGIN:VCALENDAR
VERSION:2.0
CALSCALE:GREGORIAN
PRODID:-//Diputació de Barcelona//DibaCMS//EN
BEGIN:VEVENT
UID:1539
DTSTAMP:20260424T225602
DTSTART:20240416T193000
DTEND:20240416T200000
SUMMARY:Presentació de "Fe i llibertat" - Teresa Forcades
LOCATION:
METHOD:PUBLISH
X-WR-CALNAME:mrgn.ajuntament@marganell.cat
X-WR-TIMEZONE:Europe/Madrid
DESCRIPTION:
URI:https://www.marganell.cat/actualitat/agenda/presentacio-de-fe-i-llibertat-teresa-forcades.html
CLASS:PUBLIC
END:VEVENT
END:VCALENDAR
