BEGIN:VCALENDAR
VERSION:2.0
CALSCALE:GREGORIAN
PRODID:-//Diputació de Barcelona//DibaCMS//EN
BEGIN:VEVENT
UID:1540
DTSTAMP:20260424T230338
DTSTART:20240423T193000
DTEND:20240423T200000
SUMMARY:Presentació de "Eskoliosi" - Rafael Donat
LOCATION:
METHOD:PUBLISH
X-WR-CALNAME:mrgn.ajuntament@marganell.cat
X-WR-TIMEZONE:Europe/Madrid
DESCRIPTION:
URI:https://www.marganell.cat/actualitat/agenda/presentacio-de-eskoliosi-rafael-donat.html
CLASS:PUBLIC
END:VEVENT
END:VCALENDAR
