BEGIN:VCALENDAR
VERSION:2.0
CALSCALE:GREGORIAN
PRODID:-//Diputació de Barcelona//DibaCMS//EN
BEGIN:VEVENT
UID:1543
DTSTAMP:20260424T230818
DTSTART:20240423T160000
DTEND:20240423T190000
SUMMARY:Venda de roses a la placeta del Nou Cafè
LOCATION:
METHOD:PUBLISH
X-WR-CALNAME:mrgn.ajuntament@marganell.cat
X-WR-TIMEZONE:Europe/Madrid
DESCRIPTION:
URI:https://www.marganell.cat/actualitat/agenda/1543-venda-de-roses-a-la-placeta-del-nou-cafe.html
CLASS:PUBLIC
END:VEVENT
END:VCALENDAR
