BEGIN:VCALENDAR
VERSION:2.0
CALSCALE:GREGORIAN
PRODID:-//Diputació de Barcelona//DibaCMS//EN
BEGIN:VEVENT
UID:1548
DTSTAMP:20260425T001046
DTSTART:20240505T133000
DTEND:20240505T143000
SUMMARY:Arrossada Popular
LOCATION:
METHOD:PUBLISH
X-WR-CALNAME:mrgn.ajuntament@marganell.cat
X-WR-TIMEZONE:Europe/Madrid
DESCRIPTION:
URI:https://www.marganell.cat/actualitat/agenda/arrossada-popular.html
CLASS:PUBLIC
END:VEVENT
END:VCALENDAR
