BEGIN:VCALENDAR
VERSION:2.0
CALSCALE:GREGORIAN
PRODID:-//Diputació de Barcelona//DibaCMS//EN
BEGIN:VEVENT
UID:1551
DTSTAMP:20260425T001907
DTSTART:20240511T223000
DTEND:20240511T235500
SUMMARY:Concert - Orgue de Gats
LOCATION:
METHOD:PUBLISH
X-WR-CALNAME:mrgn.ajuntament@marganell.cat
X-WR-TIMEZONE:Europe/Madrid
DESCRIPTION:
URI:https://www.marganell.cat/actualitat/agenda/concert-orgue-de-gats.html
CLASS:PUBLIC
END:VEVENT
END:VCALENDAR
