BEGIN:VCALENDAR
VERSION:2.0
CALSCALE:GREGORIAN
PRODID:-//Diputació de Barcelona//DibaCMS//EN
BEGIN:VEVENT
UID:1552
DTSTAMP:20260420T145809
DTSTART:20240512T110000
DTEND:20240512T123000
SUMMARY:Actuacions (geganters, bastoners...)
LOCATION:
METHOD:PUBLISH
X-WR-CALNAME:mrgn.ajuntament@marganell.cat
X-WR-TIMEZONE:Europe/Madrid
DESCRIPTION:
URI:https://www.marganell.cat/actualitat/agenda/actuacions-geganters-bastoners.html
CLASS:PUBLIC
END:VEVENT
END:VCALENDAR
