BEGIN:VCALENDAR
VERSION:2.0
CALSCALE:GREGORIAN
PRODID:-//Diputació de Barcelona//DibaCMS//EN
BEGIN:VEVENT
UID:1554
DTSTAMP:20260425T002035
DTSTART:20240512T130000
DTEND:20240512T130000
SUMMARY:Ball de la Coca + repartiment del pa
LOCATION:
METHOD:PUBLISH
X-WR-CALNAME:mrgn.ajuntament@marganell.cat
X-WR-TIMEZONE:Europe/Madrid
DESCRIPTION:
URI:https://www.marganell.cat/actualitat/agenda/ball-de-la-coca--repartiment-del-pa.html
CLASS:PUBLIC
END:VEVENT
END:VCALENDAR
