BEGIN:VCALENDAR
VERSION:2.0
CALSCALE:GREGORIAN
PRODID:-//Diputació de Barcelona//DibaCMS//EN
BEGIN:VEVENT
UID:1599
DTSTAMP:20260424T230727
DTSTART:20241129T130000
DTEND:20241129T150000
SUMMARY:Ple municipal 29 de novembre de 2024 - Extraordinària
LOCATION:
METHOD:PUBLISH
X-WR-CALNAME:mrgn.ajuntament@marganell.cat
X-WR-TIMEZONE:Europe/Madrid
DESCRIPTION:
URI:https://www.marganell.cat/actualitat/agenda/1599-ple-municipal-29-de-novembre-de-2024-extraordinaria.html
CLASS:PUBLIC
END:VEVENT
END:VCALENDAR
