BEGIN:VCALENDAR
VERSION:2.0
CALSCALE:GREGORIAN
PRODID:-//Diputació de Barcelona//DibaCMS//EN
BEGIN:VEVENT
UID:1608
DTSTAMP:20260424T230656
DTSTART:20241219T190000
DTEND:20241219T210000
SUMMARY:Ple municipal 19 de desembre de 2024 - Ordinària
LOCATION:
METHOD:PUBLISH
X-WR-CALNAME:mrgn.ajuntament@marganell.cat
X-WR-TIMEZONE:Europe/Madrid
DESCRIPTION:
URI:https://www.marganell.cat/actualitat/agenda/1608-ple-municipal-19-de-desembre-de-2024-ordinaria.html
CLASS:PUBLIC
END:VEVENT
END:VCALENDAR
