BEGIN:VCALENDAR
VERSION:2.0
CALSCALE:GREGORIAN
PRODID:-//Diputació de Barcelona//DibaCMS//EN
BEGIN:VEVENT
UID:1611
DTSTAMP:20260425T002346
DTSTART:20250207T110000
DTEND:20250207T120000
SUMMARY:Ple municipal 07 de febrer de 2025 - Extraordinària
LOCATION:
METHOD:PUBLISH
X-WR-CALNAME:mrgn.ajuntament@marganell.cat
X-WR-TIMEZONE:Europe/Madrid
DESCRIPTION:
URI:https://www.marganell.cat/actualitat/agenda/1611-ple-municipal-07-de-febrer-de-2025-extraordinaria.html
CLASS:PUBLIC
END:VEVENT
END:VCALENDAR
