BEGIN:VCALENDAR
VERSION:2.0
CALSCALE:GREGORIAN
PRODID:-//Diputació de Barcelona//DibaCMS//EN
BEGIN:VEVENT
UID:1616
DTSTAMP:20260425T002606
DTSTART:20250320T190000
DTEND:20250320T210000
SUMMARY:Ple municipal 20 de març de 2025 - Ordinària
LOCATION:
METHOD:PUBLISH
X-WR-CALNAME:mrgn.ajuntament@marganell.cat
X-WR-TIMEZONE:Europe/Madrid
DESCRIPTION:
URI:https://www.marganell.cat/actualitat/agenda/1616-ple-municipal-20-de-marc-de-2025-ordinaria.html
CLASS:PUBLIC
END:VEVENT
END:VCALENDAR
