BEGIN:VCALENDAR
VERSION:2.0
CALSCALE:GREGORIAN
PRODID:-//Diputació de Barcelona//DibaCMS//EN
BEGIN:VEVENT
UID:1655
DTSTAMP:20260424T213422
DTSTART:20250921T130000
DTEND:20250921T160000
SUMMARY:Dinar de la gent gran - Festa Major 2025
LOCATION:
METHOD:PUBLISH
X-WR-CALNAME:mrgn.ajuntament@marganell.cat
X-WR-TIMEZONE:Europe/Madrid
DESCRIPTION:
URI:https://www.marganell.cat/actualitat/agenda/dinar-de-la-gent-gran-festa-major-2025.html
CLASS:PUBLIC
END:VEVENT
END:VCALENDAR
