BEGIN:VCALENDAR
VERSION:2.0
CALSCALE:GREGORIAN
PRODID:-//Diputació de Barcelona//DibaCMS//EN
BEGIN:VEVENT
UID:1662
DTSTAMP:20260424T224619
DTSTART:20251025T180000
DTEND:20251025T190000
SUMMARY:Taller de cuina - Castanyada 2025
LOCATION:
METHOD:PUBLISH
X-WR-CALNAME:mrgn.ajuntament@marganell.cat
X-WR-TIMEZONE:Europe/Madrid
DESCRIPTION:
URI:https://www.marganell.cat/actualitat/agenda/taller-de-cuina-castanyada-2025.html
CLASS:PUBLIC
END:VEVENT
END:VCALENDAR
