BEGIN:VCALENDAR
VERSION:2.0
CALSCALE:GREGORIAN
PRODID:-//Diputació de Barcelona//DibaCMS//EN
BEGIN:VEVENT
UID:1663
DTSTAMP:20260424T224522
DTSTART:20251031T210000
DTEND:20251031T235500
SUMMARY:Sopar de Castanyada - Castanyada 2025
LOCATION:
METHOD:PUBLISH
X-WR-CALNAME:mrgn.ajuntament@marganell.cat
X-WR-TIMEZONE:Europe/Madrid
DESCRIPTION:
URI:https://www.marganell.cat/actualitat/agenda/sopar-de-castanyada-castanyada-2025.html
CLASS:PUBLIC
END:VEVENT
END:VCALENDAR
