BEGIN:VCALENDAR
VERSION:2.0
CALSCALE:GREGORIAN
PRODID:-//Diputació de Barcelona//DibaCMS//EN
BEGIN:VEVENT
UID:1665
DTSTAMP:20260425T011518
DTSTART:20251101T180000
DTEND:20251101T200000
SUMMARY:Cinema de Terror per a tots els públics - Castanyada 2025
LOCATION:
METHOD:PUBLISH
X-WR-CALNAME:mrgn.ajuntament@marganell.cat
X-WR-TIMEZONE:Europe/Madrid
DESCRIPTION:
URI:https://www.marganell.cat/actualitat/agenda/cinema-de-terror-per-a-tots-els-publics-castanyada-2025.html
CLASS:PUBLIC
END:VEVENT
END:VCALENDAR
