BEGIN:VCALENDAR
VERSION:2.0
CALSCALE:GREGORIAN
PRODID:-//Diputació de Barcelona//DibaCMS//EN
BEGIN:VEVENT
UID:1671
DTSTAMP:20260424T193437
DTSTART:20251213T210000
DTEND:20251213T233000
SUMMARY:Sopar soliari per la Marató - Nadal i Reis 25/26
LOCATION:
METHOD:PUBLISH
X-WR-CALNAME:mrgn.ajuntament@marganell.cat
X-WR-TIMEZONE:Europe/Madrid
DESCRIPTION:
URI:https://www.marganell.cat/actualitat/agenda/sopar-soliari-per-la-marato-nadal-i-reis-2526.html
CLASS:PUBLIC
END:VEVENT
END:VCALENDAR
