BEGIN:VCALENDAR
VERSION:2.0
CALSCALE:GREGORIAN
PRODID:-//Diputació de Barcelona//DibaCMS//EN
BEGIN:VEVENT
UID:1672
DTSTAMP:20260424T210629
DTSTART:20251214T100000
DTEND:20251214T130000
SUMMARY:Torneig de ping-pong solidari per la Marató - Nadal i Reis 25/26
LOCATION:
METHOD:PUBLISH
X-WR-CALNAME:mrgn.ajuntament@marganell.cat
X-WR-TIMEZONE:Europe/Madrid
DESCRIPTION:
URI:https://www.marganell.cat/actualitat/agenda/torneig-de-ping-pong-solidari-per-la-marato-nadal-i-reis-2526.html
CLASS:PUBLIC
END:VEVENT
END:VCALENDAR
