BEGIN:VCALENDAR
VERSION:2.0
CALSCALE:GREGORIAN
PRODID:-//Diputació de Barcelona//DibaCMS//EN
BEGIN:VEVENT
UID:1675
DTSTAMP:20260424T195346
DTSTART:20251225T190000
DTEND:20251225T210000
SUMMARY:Quinto de Nadal - Nadal i Reis 25/26
LOCATION:
METHOD:PUBLISH
X-WR-CALNAME:mrgn.ajuntament@marganell.cat
X-WR-TIMEZONE:Europe/Madrid
DESCRIPTION:
URI:https://www.marganell.cat/actualitat/agenda/quinto-de-nadal-nadal-i-reis-2526.html
CLASS:PUBLIC
END:VEVENT
END:VCALENDAR
